BEGIN:VCALENDAR
VERSION:2.0
PRODID:-//hacksw/handcal//NONSGML v1.0//EN
BEGIN:VEVENT
SUMMARY:VACANCES SCOLAIRES - PAS DE COURS
UID:5faffe80-91e9-4410-8d21-9cc0316a9f03
DTSTART:20260405T220000Z
DTEND:20260419T220000Z
LOCATION:Localisation   
CATEGORIES:Sportif
STATUS:
URL;VALUE=URI:https://www.usbgym.com/evenements/2026/04/06/vacances-scolaires-pas-de-cours-2436336
END:VEVENT
END:VCALENDAR
